BEGIN:VCALENDAR
VERSION:2.0
PRODID:-//Musikschule Südsteiermark - ECPv6.15.17.1//NONSGML v1.0//EN
CALSCALE:GREGORIAN
METHOD:PUBLISH
X-WR-CALNAME:Musikschule Südsteiermark
X-ORIGINAL-URL:https://www.musikschule-suedsteiermark.at
X-WR-CALDESC:Veranstaltungen für Musikschule Südsteiermark
REFRESH-INTERVAL;VALUE=DURATION:PT1H
X-Robots-Tag:noindex
X-PUBLISHED-TTL:PT1H
BEGIN:VTIMEZONE
TZID:UTC
BEGIN:STANDARD
TZOFFSETFROM:+0000
TZOFFSETTO:+0000
TZNAME:UTC
DTSTART:20240101T000000
END:STANDARD
END:VTIMEZONE
BEGIN:VEVENT
DTSTART;VALUE=DATE:20251224
DTEND;VALUE=DATE:20260107
DTSTAMP:20260419T174053
CREATED:20251220T140045Z
LAST-MODIFIED:20251220T140045Z
UID:23364638-1766534400-1767743999@www.musikschule-suedsteiermark.at
SUMMARY:Weihnachtsferien
DESCRIPTION:
URL:https://www.musikschule-suedsteiermark.at/event/weihnachtsferien/
LOCATION:Steiermark
CATEGORIES:Schulferien,Schulfrei - Schulferien
END:VEVENT
END:VCALENDAR