BEGIN:VCALENDAR
VERSION:2.0
PRODID:-//Musikschule Südsteiermark - ECPv6.15.17.1//NONSGML v1.0//EN
CALSCALE:GREGORIAN
METHOD:PUBLISH
X-WR-CALNAME:Musikschule Südsteiermark
X-ORIGINAL-URL:https://www.musikschule-suedsteiermark.at
X-WR-CALDESC:Veranstaltungen für Musikschule Südsteiermark
REFRESH-INTERVAL;VALUE=DURATION:PT1H
X-Robots-Tag:noindex
X-PUBLISHED-TTL:PT1H
BEGIN:VTIMEZONE
TZID:UTC
BEGIN:STANDARD
TZOFFSETFROM:+0000
TZOFFSETTO:+0000
TZNAME:UTC
DTSTART:20250101T000000
END:STANDARD
END:VTIMEZONE
BEGIN:VEVENT
DTSTART;TZID=UTC:20260413T173000
DTEND;TZID=UTC:20260413T193000
DTSTAMP:20260419T124329
CREATED:20260301T134205Z
LAST-MODIFIED:20260327T185246Z
UID:23944875-1776101400-1776108600@www.musikschule-suedsteiermark.at
SUMMARY:Musikschulkonzert "Alle Vöglein sind schon da!"
DESCRIPTION:
URL:https://www.musikschule-suedsteiermark.at/event/3-musikschulkonzert-2/
LOCATION:Musikverein Ehrenhausen\, Marktplatz 26a\, Ehrenhausen\, Steiermark\, 8461\, Austria
CATEGORIES:Auftrittspraktika (AP),Konzert / Musikrezeption
ATTACH;FMTTYPE=image/jpeg:https://www.musikschule-suedsteiermark.at/wp-content/uploads/2026/03/Alle-Voeglein-sind-schon-da-ehrenhausen.jpg
END:VEVENT
END:VCALENDAR