BEGIN:VCALENDAR
VERSION:2.0
PRODID:-//Musikschule Südsteiermark - ECPv6.15.17.1//NONSGML v1.0//EN
CALSCALE:GREGORIAN
METHOD:PUBLISH
X-WR-CALNAME:Musikschule Südsteiermark
X-ORIGINAL-URL:https://www.musikschule-suedsteiermark.at
X-WR-CALDESC:Veranstaltungen für Musikschule Südsteiermark
REFRESH-INTERVAL;VALUE=DURATION:PT1H
X-Robots-Tag:noindex
X-PUBLISHED-TTL:PT1H
BEGIN:VTIMEZONE
TZID:UTC
BEGIN:STANDARD
TZOFFSETFROM:+0000
TZOFFSETTO:+0000
TZNAME:UTC
DTSTART:20250101T000000
END:STANDARD
END:VTIMEZONE
BEGIN:VEVENT
DTSTART;VALUE=DATE:20260604
DTEND;VALUE=DATE:20260605
DTSTAMP:20260419T192528
CREATED:20260301T135017Z
LAST-MODIFIED:20260301T135017Z
UID:23944889-1780531200-1780617599@www.musikschule-suedsteiermark.at
SUMMARY:Fronleichnam
DESCRIPTION:
URL:https://www.musikschule-suedsteiermark.at/event/fronleichnam/
LOCATION:Steiermark
CATEGORIES:Gesetzlicher Feiertag,Schulfrei - Schulferien
END:VEVENT
END:VCALENDAR