BEGIN:VCALENDAR
VERSION:2.0
PRODID:-//Musikschule Südsteiermark - ECPv6.15.17.1//NONSGML v1.0//EN
CALSCALE:GREGORIAN
METHOD:PUBLISH
X-WR-CALNAME:Musikschule Südsteiermark
X-ORIGINAL-URL:https://www.musikschule-suedsteiermark.at
X-WR-CALDESC:Veranstaltungen für Musikschule Südsteiermark
REFRESH-INTERVAL;VALUE=DURATION:PT1H
X-Robots-Tag:noindex
X-PUBLISHED-TTL:PT1H
BEGIN:VTIMEZONE
TZID:UTC
BEGIN:STANDARD
TZOFFSETFROM:+0000
TZOFFSETTO:+0000
TZNAME:UTC
DTSTART:20250101T000000
END:STANDARD
END:VTIMEZONE
BEGIN:VEVENT
DTSTART;TZID=UTC:20260613T173000
DTEND;TZID=UTC:20260613T193000
DTSTAMP:20260419T160243
CREATED:20260301T135222Z
LAST-MODIFIED:20260301T135222Z
UID:23944891-1781371800-1781379000@www.musikschule-suedsteiermark.at
SUMMARY:Orchesterkonzert
DESCRIPTION:Nussbergbühne Ratsch
URL:https://www.musikschule-suedsteiermark.at/event/orchesterkonzert/
LOCATION:Nussberg-Bühne\, RATSCH AN DER WEINSTRASSE\, EHRENHAUSEN AN DER WEINSTRASSE\, Steiermark\, 8461\, Austria
CATEGORIES:Auftrittspraktika (AP),Konzert / Musikrezeption
END:VEVENT
END:VCALENDAR