BEGIN:VCALENDAR
VERSION:2.0
PRODID:-//Musikschule Südsteiermark - ECPv6.15.17.1//NONSGML v1.0//EN
CALSCALE:GREGORIAN
METHOD:PUBLISH
X-WR-CALNAME:Musikschule Südsteiermark
X-ORIGINAL-URL:https://www.musikschule-suedsteiermark.at
X-WR-CALDESC:Veranstaltungen für Musikschule Südsteiermark
REFRESH-INTERVAL;VALUE=DURATION:PT1H
X-Robots-Tag:noindex
X-PUBLISHED-TTL:PT1H
BEGIN:VTIMEZONE
TZID:UTC
BEGIN:STANDARD
TZOFFSETFROM:+0000
TZOFFSETTO:+0000
TZNAME:UTC
DTSTART:20250101T000000
END:STANDARD
END:VTIMEZONE
BEGIN:VEVENT
DTSTART;TZID=UTC:20260623T173000
DTEND;TZID=UTC:20260623T193000
DTSTAMP:20260419T160245
CREATED:20260301T135437Z
LAST-MODIFIED:20260301T135437Z
UID:23944895-1782235800-1782243000@www.musikschule-suedsteiermark.at
SUMMARY:Abschlusskonzert
DESCRIPTION:Volksschule Lang
URL:https://www.musikschule-suedsteiermark.at/event/abschlusskonzert-2/
LOCATION:VS Lang\, Lang 6\, Lang\, Steiermark\, 8403
CATEGORIES:Auftrittspraktika (AP),Konzert / Musikrezeption
END:VEVENT
END:VCALENDAR