BEGIN:VCALENDAR
VERSION:2.0
PRODID:-//Musikschule Südsteiermark - ECPv6.15.17.1//NONSGML v1.0//EN
CALSCALE:GREGORIAN
METHOD:PUBLISH
X-ORIGINAL-URL:https://www.musikschule-suedsteiermark.at
X-WR-CALDESC:Veranstaltungen für Musikschule Südsteiermark
REFRESH-INTERVAL;VALUE=DURATION:PT1H
X-Robots-Tag:noindex
X-PUBLISHED-TTL:PT1H
BEGIN:VTIMEZONE
TZID:UTC
BEGIN:STANDARD
TZOFFSETFROM:+0000
TZOFFSETTO:+0000
TZNAME:UTC
DTSTART:20250101T000000
END:STANDARD
END:VTIMEZONE
BEGIN:VEVENT
DTSTART;TZID=UTC:20260307T090000
DTEND;TZID=UTC:20260307T120000
DTSTAMP:20260419T124844
CREATED:20260301T133647Z
LAST-MODIFIED:20260301T133647Z
UID:23944867-1772874000-1772884800@www.musikschule-suedsteiermark.at
SUMMARY:Kolleg
DESCRIPTION:
URL:https://www.musikschule-suedsteiermark.at/event/kolleg/
LOCATION:Steiermark
CATEGORIES:Kolleg
END:VEVENT
BEGIN:VEVENT
DTSTART;VALUE=DATE:20260319
DTEND;VALUE=DATE:20260320
DTSTAMP:20260419T124844
CREATED:20251220T140214Z
LAST-MODIFIED:20251220T140214Z
UID:23364642-1773878400-1773964799@www.musikschule-suedsteiermark.at
SUMMARY:Landesfeiertag
DESCRIPTION:
URL:https://www.musikschule-suedsteiermark.at/event/landesfeiertag/
LOCATION:Steiermark
CATEGORIES:Gesetzlicher Feiertag,Schulfrei - Schulferien
END:VEVENT
BEGIN:VEVENT
DTSTART;VALUE=DATE:20260320
DTEND;VALUE=DATE:20260321
DTSTAMP:20260419T124844
CREATED:20260301T133846Z
LAST-MODIFIED:20260301T133846Z
UID:23944869-1773964800-1774051199@www.musikschule-suedsteiermark.at
SUMMARY:Schulfrei - Schulautonomer Tag
DESCRIPTION:
URL:https://www.musikschule-suedsteiermark.at/event/schulfrei-schulautonomer-tag/
LOCATION:Steiermark
CATEGORIES:Schulautonom frei,Schulfrei - Schulferien
END:VEVENT
BEGIN:VEVENT
DTSTART;VALUE=DATE:20260328
DTEND;VALUE=DATE:20260407
DTSTAMP:20260419T124844
CREATED:20251220T140300Z
LAST-MODIFIED:20251220T140300Z
UID:23364644-1774656000-1775519999@www.musikschule-suedsteiermark.at
SUMMARY:Osterferien
DESCRIPTION:
URL:https://www.musikschule-suedsteiermark.at/event/osterferien/
LOCATION:Steiermark
CATEGORIES:Schulferien,Schulfrei - Schulferien
END:VEVENT
END:VCALENDAR